BEGIN:VCALENDAR
VERSION:2.0
METHOD:PUBLISH
PRODID:-//PinCalendar.com -  Calendar  //EN
BEGIN:VEVENT
UID:9692
DTSTART:20190917T170000Z
DTEND:20190917T170000Z
DTSTAMP:20260422T083058
SUMMARY:New Event
URL:https://www.pincalendar.com/ept/calendar/calendar-914/event/9692/?q=ic
 al
END:VEVENT
END:VCALENDAR
