BEGIN:VCALENDAR
VERSION:2.0
METHOD:PUBLISH
PRODID:-//PinCalendar.com -  Eventos/Events  //EN
BEGIN:VEVENT
UID:3425
DTSTART:20170324T170000Z
DTEND:20170324T170000Z
ATTACH;FMTTYPE:image / jpeg:https://s3.amazonaws.com/images.pincalendar.co
 m/users/bvazores/event/workshop-sistemic_20170208104131.jpg
DESCRIPTION:Workshop Sist&eacute\;mico Integrado &quot\;Consci&ecirc\;ncia
  em Movimento&quot\;\nFacilitadora : Integral &amp\; Esssencial Coach Cris
 tina Leandro Faria (vinda de Lisboa)\nValor p/pax: Participa&ccedil\;&atil
 de\;o com tema 120&euro\; + 50&euro\; (no ato da inscri&ccedil\;&atilde\;o
 ) / Participa&ccedil\;&atilde\;o sem tema 70&euro\; + 50&euro\; (no ato da
  inscri&ccedil\;&atilde\;o)\n+Limite de inscri&ccedil\;&otilde\;es at&eacu
 te\; 15 de mar&ccedil\;o\n*O numero m&aacute\;ximo de participantes com te
 ma &eacute\; 20 e o numero m&iacute\;nimo de 15\n*O numero de participante
 s sem tema &eacute\; ilimitado)\n\nInscri&ccedil\;&otilde\;es e informa&cc
 edil\;&otilde\;es para:geral@bellavita.com / Telm 967 473 369 (www.bellavi
 taacores.com)\nData: 24\, 25 e 26 mar&ccedil\;o&nbsp\;\nLocal: Bella Vita 
 A&ccedil\;ores - Sete Cidades\n*UM PROJETO DA &quot\;FUNDA&Ccedil\;&Atilde
 \;O SER&quot\;\n\nPROGRAMA\nDia 24 | 19:00 - Palestra &quot\;Consci&ecirc\
 ;ncia em Movimento&quot\;\nDia 25 | 10:00 - Abertura | 13:00 - Almo&ccedil
 \;o | 19:00 - Descanso\nDia 26 | 10:00 - Abertura | 13:00 - Almo&ccedil\;o
  | 19:00 - Harmoniza&ccedil\;&atilde\;o | 19:30 - Encerramento\nOBJETIVOS\
 nLiberta&ccedil\;&atilde\;o\, Ancoramento\, Equil&iacute\;brio e Harmoniza
 &ccedil\;&atilde\;o\, Profundidade\, Reconex&atilde\;o\, Aprendizagem\n\nO
  que &eacute\; o WSI:\nConsiste num modelo &ldquo\;retiro terap&ecirc\;uti
 co em grupo&rdquo\;\, com uma abordagem sistematizada a partir de v&aacute
 \;rios m&eacute\;todos e ferramentas de interven&ccedil\;&atilde\;o que pe
 rmitem uma abordagem de 360&ordm\; integral.\nTem como base o princ&iacute
 \;pio das &ldquo\;constela&ccedil\;&otilde\;es familiares&rdquo\; de Bert 
 Hellinger\, e recorre fundamentalmente &agrave\;s abordagens sist&eacute\;
 micas fenomenol&oacute\;gica e estrutural\, no entanto desenvolve-se como 
 uma ferramenta muito mais completa e profunda porque encerra em si v&aacut
 e\;rias t&eacute\;cnicas e m&eacute\;todos de coaching e terapia que v&ati
 lde\;o desde os mais convencionais at&eacute\; aos mais hol&iacute\;sticos
  e espirituais de forma totalmente integrada e n&atilde\;o descurando nenh
 uma parte do Ser como um todo.\n\nConceitos Importantes:\nA abordagem feno
 menol&oacute\;gica procura equacionar conflitos e desarticular padr&otilde
 \;es cristalizados\, devido a uma s&eacute\;rie de acontecimentos que gera
 m dor\, ressentimentos\, m&aacute\;goas e exclus&otilde\;es.\nEsta abordag
 em foca-se principalmente na identifica&ccedil\;&atilde\;o de tais tens&ot
 ilde\;es inconscientes\, procurando apresentar ao participante um novo qua
 dro poss&iacute\;vel da realidade no qual tais tens&otilde\;es sejam disso
 lvidas.\nComo a estrutura dos v&iacute\;nculos humanos &eacute\; bem anter
 ior aos modelos sociais ou &agrave\; compreens&atilde\;o\, muitas interven
 &ccedil\;&otilde\;es fogem completamente do entendimento&hellip\; Isto &ea
 cute\;\, a Sist&eacute\;mica Fenomenol&oacute\;gica lida muitas vezes com 
 conte&uacute\;dos biol&oacute\;gicos\, simb&oacute\;licos\, emocionais e p
 sicol&oacute\;gicos humanos t&atilde\;o antigos\, que as nossas regras cul
 turais e modelos sociais actuais nem sempre alcan&ccedil\;am ou compreende
 m tal realidade.\nEsta vertente permite revelar as solu&ccedil\;&otilde\;e
 s mais adequadas na dimens&atilde\;o dos sentimentos e n&atilde\;o na raz&
 atilde\;o ou na compreens&atilde\;o do certo e do errado\, que frequenteme
 nte s&atilde\;o factores que potenciam as exclus&otilde\;es\, os preconcei
 tos\, as vingan&ccedil\;as e tantos outros comportamentos humanos hostis. 
 E por isso\, uma interven&ccedil\;&atilde\;o atrav&eacute\;s da abordagem 
 fenomenol&oacute\;gica\, pode revelar solu&ccedil\;&otilde\;es pouco compr
 eens&iacute\;veis para a raz&atilde\;o e propor ac&ccedil\;&otilde\;es sim
 ples\, &agrave\;s vezes acess&iacute\;veis apenas &agrave\; intui&ccedil\;
 &atilde\;o.\nRessalvo que ignorar os movimentos observados numa terapia de
 ste g&eacute\;nero\, por falta de compreens&atilde\;o intelectual\, pode a
 fastar a possibilidade de encontrar solu&ccedil\;&otilde\;es para problema
 s humanos cujas origens estejam em &eacute\;pocas ou pr&aacute\;ticas cult
 urais ancestrais.\nPortanto\, na abordagem fenomenol&oacute\;gica\, qualqu
 er ideia preconcebida que fa&ccedil\;amos de uma determinada interven&cced
 il\;&atilde\;o ou diagn&oacute\;stico\, pode interferir ou inibir o proces
 so de cura ou solu&ccedil\;&atilde\;o. Torna-se fundamental a pr&aacute\;t
 ica do n&atilde\;o julgamento\, para que o sistema seja devidamente respei
 tado na sua sabedoria e equil&iacute\;brio e esteja disposto e dispon&iacu
 te\;vel para permitir alguma interven&ccedil\;&atilde\;o\; caso contr&aacu
 te\;rio as coisas n&atilde\;o acontecem.\nO sil&ecirc\;ncio do facilitador
  &eacute\; muito comum nesta abordagem\, evitando-se interpreta&ccedil\;&o
 tilde\;es err&oacute\;neas. Num sentido positivo\, esse estilo &eacute\; q
 uase uma &ldquo\;religi&atilde\;o&ldquo\;\, na qual se desenvolve uma f&ea
 cute\; e confian&ccedil\;a inabal&aacute\;vel na intelig&ecirc\;ncia do si
 stema do participante.\nA abordagem fenomenol&oacute\;gica &eacute\;\, por
 tanto\, uma forma de adentrarmos num universo de fen&oacute\;menos a que o
  intelecto n&atilde\;o &eacute\; capaz de alcan&ccedil\;ar\, pois inclui r
 ealidades que a mente ainda n&atilde\;o percebe ou n&atilde\;o conhece. &E
 acute\; uma abordagem profunda que\, actualmente e com modelos mais evolu&
 iacute\;dos\, deu origem a interven&ccedil\;&otilde\;es multi-dimensionais
 \, ou seja\, &agrave\; possibilidade de solu&ccedil\;&atilde\;o de problem
 as em m&uacute\;ltiplos n&iacute\;veis em uma &uacute\;nica interven&ccedi
 l\;&atilde\;o.\n\nA abordagem estrutural (normalmente utilizada em organiz
 a&ccedil\;&otilde\;es) torna o trabalho muito mais intelig&iacute\;vel e p
 ermite que se expanda. Al&eacute\;m de ser uma maravilhosa &ldquo\;carta n
 a manga&rdquo\; de facilitadores que n&atilde\;o est&atilde\;o ainda prepa
 rados para uma abordagem fenomenol&oacute\;gica. Por&eacute\;m\, n&atilde\
 ;o alcan&ccedil\;a a mesma profundidade do m&eacute\;todo fenomenol&oacute
 \;gico.\nDe uma forma simples\, a abordagem estrutural &eacute\; um modelo
  mental de sistematiza&ccedil\;&atilde\;o que pode inclusivamente ser mape
 ado num fluxograma ou figuras.\n\nComo funciona a din&acirc\;mica do Works
 hop?\nNuma sess&atilde\;o pode participar-se de tr&ecirc\;s maneiras difer
 entes:\n1) como cliente/participante\, colocando o seu tema\;\n2) como rep
 resentante no tema de outra pessoa\;\n3) como assistente\; (s&oacute\; em 
 workshops demonstrativos)\n\nO procedimento no trabalho inicia-se com a ap
 resenta&ccedil\;&atilde\;o de um tema/situa&ccedil\;&atilde\;o pelo partic
 ipante. Segue-se uma breve entrevista\, onde se procura saber aquilo que o
  participante gostaria de ver resolvido e onde se recolhe informa&ccedil\;
 &atilde\;o factual acerca do sistema respectivo.\nO facilitador necessita 
 apenas de recolher informa&ccedil\;&atilde\;o essencial e concreta\, n&ati
 lde\;o sendo necess&aacute\;rio expor demasiada informa&ccedil\;&atilde\;o
  na sess&atilde\;o\, perante o grupo acerca do assunto a trabalhar (h&aacu
 te\; sempre a possibilidade desta entrevista ser individual).\nO participa
 nte ter&aacute\; apenas de responder a perguntas b&aacute\;sicas\, como &l
 dquo\;qual &eacute\; o problema?&rdquo\; ou &ldquo\;o que deseja conseguir
 ?&rdquo\; e fornecer alguns factos importantes.\nAp&oacute\;s esta recolha
  de informa&ccedil\;&atilde\;o segue-se a decis&atilde\;o sobre os element
 os ou personagens que ir&atilde\;o ser representados na dramatiza&ccedil\;
 &atilde\;o do tema. Que normalmente s&atilde\;o: a pr&oacute\;pria pessoa 
 que apresenta o problema e alguns membros da sua fam&iacute\;lia\, mas pod
 er&aacute\; tamb&eacute\;m ser um elemento abstracto\, como um aspecto da 
 personalidade\, uma doen&ccedil\;a\, uma casa\, um pa&iacute\;s\, uma empr
 esa\, um departamento de empresa\, um processo judicial\, etc.\, dependend
 o esta decis&atilde\;o do problema que esteja a ser trabalhado.\nEntre as 
 pessoas presentes no grupo\, s&atilde\;o escolhidos representantes para es
 ses elementos ou membros da fam&iacute\;lia\, os quais s&atilde\;o dispost
 os no espa&ccedil\;o de forma a mostrar como o participante &ldquo\;v&ecir
 c\;&rdquo\; as rela&ccedil\;&otilde\;es entre tais pessoas (ou elementos) 
 na sua perspectiva.\nA partir daqui\, os representantes movem-se de acordo
  com aquilo que espontaneamente sentem ou percebem\, a n&iacute\;vel f&iac
 ute\;sico ou emocional. Os representantes\, situados uns em rela&ccedil\;&
 atilde\;o aos outros\, come&ccedil\;am a ter sensa&ccedil\;&otilde\;es e a
  exibir reac&ccedil\;&otilde\;es que n&atilde\;o correspondem a nenhuma vo
 ntade consciente da sua parte\; de repente j&aacute\; n&atilde\;o actuam e
  sentem como eles pr&oacute\;prios\, mas como os membros do sistema que re
 presentam\, chegando inclusivamente a desenvolver os sintomas f&iacute\;si
 cos dos papeis que est&atilde\;o a representar.\nEste fen&oacute\;meno n&a
 tilde\;o est&aacute\; cabalmente explicado pela ci&ecirc\;ncia dita conven
 cional (embora existam v&aacute\;rias aproxima&ccedil\;&otilde\;es &agrave
 \; sua explica&ccedil\;&atilde\;o dentro da neurologia e da biologia)\, no
  entanto o Dr. Rupert Sheldrake\, bi&oacute\;logo e bioqu&iacute\;mico\, a
 trav&eacute\;s da sua tese sobre os &ldquo\;campos morfol&oacute\;gicos&rd
 quo\; tem permitido uma melhor compreens&atilde\;o intelectual para todo e
 ste processo.\nO papel do facilitador &eacute\; o de acompanhar o particip
 ante no desenvolvimento da sess&atilde\;o. Orientando-se atrav&eacute\;s d
 o que capta na express&atilde\;o verbal\, corporal\, emocional e energ&eac
 ute\;tica dos representantes\, ajuda-os (facilitando) no desdobramento des
 sa express&atilde\;o e na assist&ecirc\;ncia aos movimentos de concilia&cc
 edil\;&atilde\;o\, procurando uma imagem de solu&ccedil\;&atilde\;o para o
  problema. Para que isso aconte&ccedil\;a &eacute\; necess&aacute\;rio que
  o facilitador re&uacute\;na um conjunto de aptid&otilde\;es e ferramentas
  muito especificas mas tamb&eacute\;m muito diversificadas\, sendo que alg
 umas delas s&oacute\; poder&atilde\;o ser integradas atrav&eacute\;s da ex
 peri&ecirc\;ncia.\n\nA quem pode interessar?\nTalvez a pergunta devesse se
 r : A quem n&atilde\;o interessa?\nPorque este workshop procura responder 
 a uma quantidade infinita de quest&otilde\;es que todos os seres humanos t
 &ecirc\;m naturalmente\, e por isso buscam as respostas atrav&eacute\;s de
  muitos caminhos diferentes. E que tal se pudesse encontrar varias respost
 as ou solu&ccedil\;&otilde\;es de uma s&oacute\; vez?! Parece imposs&iacut
 e\;vel\, mas n&atilde\;o &eacute\;! &Eacute\; a vantagem de um Workshop Si
 st&eacute\;mico Integrado\, ou seja\, onde o convencional e n&atilde\;o co
 nvencional e o material e o espiritual caminham de m&atilde\;os dadas e ao
  mesmo n&iacute\;vel.\n\nO que se pode esperar deste trabalho?\nDesde logo
  o desbloqueio de situa&ccedil\;&otilde\;es\, maior autoconhecimento\, mai
 or consci&ecirc\;ncia\, dicas fundamentais para lidar com situa&ccedil\;&o
 tilde\;es de fundo\, cura e liberta&ccedil\;&atilde\;o de velhos padr&otil
 de\;es conscientes e inconscientes\, leveza\, pacifica&ccedil\;&atilde\;o 
 interior\, foco\, integridade\, esclarecimento\, emponderamento\, novos co
 nhecimentos e informa&ccedil\;&otilde\;es\, e tudo o mais que cada um esti
 ver disposto a aceitar/integrar. Importa salientar que ao participar num w
 orkshop\, al&eacute\;m de trabalhar as suas pr&oacute\;prias quest&otilde\
 ;es tamb&eacute\;m ir&aacute\; beneficiar do resultado dos temas trabalhad
 os pelos outros participantes.\n
DTSTAMP:20260420T230959
SUMMARY:Workshop Sistémico Integrado Consciência em Movimento
URL:https://www.pincalendar.com/bvazores/calendar/calendar--38647/event/34
 25/?q=ical
END:VEVENT
END:VCALENDAR
